BEGIN:VCALENDAR
VERSION:2.0
PRODID:-//Mopar Center - ECPv6.15.20//NONSGML v1.0//EN
CALSCALE:GREGORIAN
METHOD:PUBLISH
X-WR-CALNAME:Mopar Center
X-ORIGINAL-URL:https://moparcenter.com
X-WR-CALDESC:Events for Mopar Center
REFRESH-INTERVAL;VALUE=DURATION:PT1H
X-Robots-Tag:noindex
X-PUBLISHED-TTL:PT1H
BEGIN:VTIMEZONE
TZID:UTC
BEGIN:STANDARD
TZOFFSETFROM:+0000
TZOFFSETTO:+0000
TZNAME:UTC
DTSTART:20250101T000000
END:STANDARD
END:VTIMEZONE
BEGIN:VEVENT
DTSTART;TZID=UTC:20260418T070000
DTEND;TZID=UTC:20260419T150000
DTSTAMP:20260419T123654
CREATED:20251121T005136Z
LAST-MODIFIED:20260405T011521Z
UID:11236-1776495600-1776610800@moparcenter.com
SUMMARY:SPRING FLING 2026
DESCRIPTION:SPRING FLING 38!\nThanks to all that attended Fall Fling 38!! We had a really good turnout. Hope to see you all at Spring Fling 38\, April 18th-19th\, 2026. Click here for more information. \nLook for special features\, displays\, events. \nThe Spring Fling Mopar event is entering its 38th year as the largest Mopar car show and swap west of the Mississippi; with a car show\, swap meet\, and midway on Saturday and Sunday. Over 700 cars\, 300 swappers\, 50 manufacturers\, and over 9000 spectators. Spring Fling activities start on Thursday\, ranging from a Willow Springs track day\, driving cruises\, coastal caravans\, and a cruise-in. The Spring Fling Mopar car show is attended by Mopar fans from all over the world\, and has gained international media coverage. \nYou can call or email with any unanswered questions to 818.759.1779 or info@cpwclub.com. \nPlease note:\nLA County Parks requires that every car entering into the show area MUST fill out and sign a liability release form. We provide these at the gate\, which requires filling them out before entering. It will be easier and faster if you print out the form and bring it filled out the day of the show. And who wants to be doing paperwork on show day\, right?! Please print\, complete\, and hand signature: Liability Form. \n\nSpring Fling Flyer\nSchedule of Events\nMap / Directions\nLocal Hotel Information – Group Discount Code 1804CHRYSL\nFAQs
URL:https://moparcenter.com/event/spring-fling-2026/
CATEGORIES:Upcoming Events
ATTACH;FMTTYPE=image/webp:https://moparcenter.com/wp-content/uploads/2025/10/top-picks-from-the-36th-annual-cpw-mopar-spring-fling-show-2024-04-22_01-51-58_256268.webp
ORGANIZER;CN="Chrysler Performance West Car Club":MAILTO:info@cpwclub.com
END:VEVENT
END:VCALENDAR