BEGIN:VCALENDAR
VERSION:2.0
PRODID:-//Mopar Center - ECPv6.15.20//NONSGML v1.0//EN
CALSCALE:GREGORIAN
METHOD:PUBLISH
X-ORIGINAL-URL:https://moparcenter.com
X-WR-CALDESC:Events for Mopar Center
REFRESH-INTERVAL;VALUE=DURATION:PT1H
X-Robots-Tag:noindex
X-PUBLISHED-TTL:PT1H
BEGIN:VTIMEZONE
TZID:UTC
BEGIN:STANDARD
TZOFFSETFROM:+0000
TZOFFSETTO:+0000
TZNAME:UTC
DTSTART:20250101T000000
END:STANDARD
END:VTIMEZONE
BEGIN:VEVENT
DTSTART;TZID=UTC:20261002T080000
DTEND;TZID=UTC:20261003T170000
DTSTAMP:20260419T110332
CREATED:20251121T004045Z
LAST-MODIFIED:20260128T202002Z
UID:11233-1790928000-1791046800@moparcenter.com
SUMMARY:2026 Southern Plains Mopaar Fest
DESCRIPTION:The Southern Plains Mopaar Fest are absolute Ambassadors to move\, restore\, and preserve this historic piece of absolute Mopar Americana located smack dab in the middle of Bristow\, Oklahoma! You can view this most elegant\, beautiful\, and original 102 ft tall piece of Mopar history on the EAST side of the Mother Road Route 66 in Bristow\, OK! We are excited to have the town of Bristow hosting our All Mopar event! Come out and help preserve this absolute one of a kind piece of Chrysler Americana! \nThe 102-foot-tall Chrysler Plymouth Tower just east of Route 66 that was once part of the Beard Motor Co until the death of the owner in a plane crash and the opening of I-44 between Tulsa and Oklahoma City together forced the business to close. The society wants to relight the sign for the first time in decades.\nPre-Registration is at FOAT.com only. All payments to be made via pre-registration HERE or in person at the day of the event. \nPre-Registration deadline is 14 Sept 2026 \nFor the show registration form\, click HERE for a hand filled version\, or HERE for a fillable form. \nSponsorship opportunities are available! Please email/call Doug @ southerplainsmopaarfest@gmail.com or 405-596-6513 for details \n2026 Southern Plains Mopar Fest
URL:https://moparcenter.com/event/2026-southern-plains-mopaar-fest/
LOCATION:Southern Plains Mopaar Fest\, 37661 W Hwy 66\, Bristow\, OK\, 74010\, United States
CATEGORIES:Upcoming Events
ATTACH;FMTTYPE=image/webp:https://moparcenter.com/wp-content/uploads/2025/11/SPMF_IMG002.webp
ORGANIZER;CN="Southern Plains Mopaar Fest":MAILTO:Doug@southerplainsmopaarfest@gmail.com
END:VEVENT
END:VCALENDAR