BEGIN:VCALENDAR
VERSION:2.0
PRODID:-//Mopar Center - ECPv6.15.20//NONSGML v1.0//EN
CALSCALE:GREGORIAN
METHOD:PUBLISH
X-WR-CALNAME:Mopar Center
X-ORIGINAL-URL:https://moparcenter.com
X-WR-CALDESC:Events for Mopar Center
REFRESH-INTERVAL;VALUE=DURATION:PT1H
X-Robots-Tag:noindex
X-PUBLISHED-TTL:PT1H
BEGIN:VTIMEZONE
TZID:UTC
BEGIN:STANDARD
TZOFFSETFROM:+0000
TZOFFSETTO:+0000
TZNAME:UTC
DTSTART:20250101T000000
END:STANDARD
END:VTIMEZONE
BEGIN:VEVENT
DTSTART;VALUE=DATE:20261003
DTEND;VALUE=DATE:20261004
DTSTAMP:20260419T123542
CREATED:20251121T004726Z
LAST-MODIFIED:20260128T203759Z
UID:11235-1790985600-1791071999@moparcenter.com
SUMMARY:Mopar Day in the Park 2026
DESCRIPTION:Mopar Day In The Park\nAnnouncing CCM Mopar Day in the Park 2026\nOctober 3\, 2026  •  Hagan Park\, Rancho Cordova\nIMPORTANT: Scammers have hacked our Facebook page.  Ignore them.\nThere are only 2 ways to sign up for our car show…\n1. Use the registration page here on this website.   2. Mail to PO Box 340426\n​\n​Online Pre-Registration is Closed ! \nRegistration is available at day of show. Please download and fill out registration forms below and bring to show\, or pick one up at day of show.\n\nFeaturing  Online Registration and Payments\nComplete Registration AND Payments online. Both steps must be completed.\n\n\nRaffle Prizes\n\n\n\nRaffle Prizes include a HUGE Flat-Screen TV donated by Hoblit Dodge of Woodland\, 49ers Tickets\, Car Wash Kits\, Oil Change Kits\, many Toys\, Household stuff\, Garage finds\, and much more. Stay tuned. \n\n\nMopars in the Park 2026\nOur Car Show Sponsors  \nHoblit Chrysler Dodge Jeep Ram\nFolsom Lake Chrysler Dodge Jeep Ram\nThompson’s Chrysler Dodge Jeep RAM of Placerville\nO’Reilly Auto Parts\nHastie’s Capitol Sand & Gravel\nOverkill Performance\n​Bill Sedgwick\nPlease contact the club if you or your company wants to sponsor the Car Show: Contact us\nAlso By\nDr Injector\nCollector Car Garage\nRiver City Differential\n49er Bail Bonds\nJ & W Auto Wreckers\nRudy Oberhauser Restorations\nPowder Technology\n​Griot’s Garage\nGrand Island Vineyard\n​\n\nOur third year back at\nHagan Community Park\nby Popular Demand
URL:https://moparcenter.com/event/mopar-day-in-the-park-2026/
LOCATION:Mopar Day in the Park\, 4008 220th St W\, Farmington\, MN\, 55024\, United States
CATEGORIES:Upcoming Events
ATTACH;FMTTYPE=image/webp:https://moparcenter.com/wp-content/uploads/2025/11/hh.webp
ORGANIZER;CN="Capital City Mopars":MAILTO:webmaster@capitalcitymopars.com
END:VEVENT
END:VCALENDAR